BEGIN:VCALENDAR
VERSION:2.0
PRODID:-//Friends of the Forest Sedona - ECPv6.15.17.1//NONSGML v1.0//EN
CALSCALE:GREGORIAN
METHOD:PUBLISH
X-ORIGINAL-URL:https://www.friendsoftheforestsedona.org
X-WR-CALDESC:Events for Friends of the Forest Sedona
REFRESH-INTERVAL;VALUE=DURATION:PT1H
X-Robots-Tag:noindex
X-PUBLISHED-TTL:PT1H
BEGIN:VTIMEZONE
TZID:America/Phoenix
BEGIN:STANDARD
TZOFFSETFROM:-0700
TZOFFSETTO:-0700
TZNAME:MST
DTSTART:20230101T000000
END:STANDARD
END:VTIMEZONE
BEGIN:VEVENT
DTSTART;TZID=America/Phoenix:20240219T100000
DTEND;TZID=America/Phoenix:20240219T113000
DTSTAMP:20260420T064525
CREATED:20240113T025238Z
LAST-MODIFIED:20240113T025241Z
UID:3067-1708336800-1708342200@www.friendsoftheforestsedona.org
SUMMARY:Sedona Geology Hike
DESCRIPTION:This hike will view some of the area’s most prominent features and will provide time to pause and discuss the forces at play in creating this amazing landscape. \nPresented by Barry Mallis\, naturalist and FoF volunteer. \nThis moderate hike will be almost 2 miles long\, have 380′ of elevation gain\, and will take 1 to 1-1/2 hours. \nDue to some steeper elevation changes\, this hike is not suited for beginner hikers. \nMONDAY:     February 19th starting at 10:00 AM \nChimney Rock\, Sedona – Meeting location will be provided at time of reservation. \nLIMIT of group:   10 \n**RESERVATIONS are required.**Please go to this page at eventbrite.com \n			\n			\n				\n				\n				\n				\n				\n				\n				\n				\n				\n				\n			\n			\n				\n				\n				\n				\n			\n				\n				\n				\n				\n				\n				\n				\n				\n				\n				\n				Sponsored by Friends of the Forest-Sedona and the US Forest Service (Red Rock Ranger District). 
URL:https://www.friendsoftheforestsedona.org/events/sedona-geology-hike-02-19-2024/
LOCATION:Location at Registration
CATEGORIES:Geology Walk
ATTACH;FMTTYPE=image/jpeg:https://www.friendsoftheforestsedona.org/wp-content/uploads/2018/12/GeologyWalk.jpg
END:VEVENT
END:VCALENDAR