BEGIN:VCALENDAR
VERSION:2.0
PRODID:-//Friends of the Forest Sedona - ECPv6.15.17.1//NONSGML v1.0//EN
CALSCALE:GREGORIAN
METHOD:PUBLISH
X-WR-CALNAME:Friends of the Forest Sedona
X-ORIGINAL-URL:https://www.friendsoftheforestsedona.org
X-WR-CALDESC:Events for Friends of the Forest Sedona
REFRESH-INTERVAL;VALUE=DURATION:PT1H
X-Robots-Tag:noindex
X-PUBLISHED-TTL:PT1H
BEGIN:VTIMEZONE
TZID:America/Phoenix
BEGIN:STANDARD
TZOFFSETFROM:-0700
TZOFFSETTO:-0700
TZNAME:MST
DTSTART:20230101T000000
END:STANDARD
END:VTIMEZONE
BEGIN:VEVENT
DTSTART;TZID=America/Phoenix:20241114T100000
DTEND;TZID=America/Phoenix:20241114T113000
DTSTAMP:20260420T041134
CREATED:20241030T164740Z
LAST-MODIFIED:20241030T211440Z
UID:3289-1731578400-1731583800@www.friendsoftheforestsedona.org
SUMMARY:Sedona Geology Hike
DESCRIPTION:This hike will view some of the area’s most prominent features and will provide time to pause and discuss the forces at play in creating this amazing landscape. \nPresented by Barry Mallis\, naturalist and FoF volunteer. \nThis moderate hike will be almost 2 miles long\, have 380′ of elevation gain\, and will take 1 to 1-1/2 hours. \nDue to some steeper elevation changes\, this hike is not suited for beginner hikers. \nTHURSDAY:     November 14th starting at 10:00 AM \nChimney Rock\, Sedona – Meeting location will be provided at time of reservation. \nLIMIT of group:   10 \n**RESERVATIONS are required.**Please go to this page at eventbrite.com \n			\n			\n				\n				\n				\n				\n				\n				\n				\n				\n				\n				\n			\n			\n				\n				\n				\n				\n			\n				\n				\n				\n				\n				\n				\n				\n				\n				\n				\n				Sponsored by Friends of the Forest-Sedona and the US Forest Service (Red Rock Ranger District). (POC: interpretive@fofsedona.org)
URL:https://www.friendsoftheforestsedona.org/events/sedona-geology-hike-2024-11-14/
LOCATION:Location at Registration
CATEGORIES:Geology Walk
ATTACH;FMTTYPE=image/jpeg:https://www.friendsoftheforestsedona.org/wp-content/uploads/2018/12/GeologyWalk.jpg
END:VEVENT
END:VCALENDAR