BEGIN:VCALENDAR
VERSION:2.0
PRODID:-//Friends of the Forest Sedona - ECPv6.15.17.1//NONSGML v1.0//EN
CALSCALE:GREGORIAN
METHOD:PUBLISH
X-WR-CALNAME:Friends of the Forest Sedona
X-ORIGINAL-URL:https://www.friendsoftheforestsedona.org
X-WR-CALDESC:Events for Friends of the Forest Sedona
REFRESH-INTERVAL;VALUE=DURATION:PT1H
X-Robots-Tag:noindex
X-PUBLISHED-TTL:PT1H
BEGIN:VTIMEZONE
TZID:America/Phoenix
BEGIN:STANDARD
TZOFFSETFROM:-0700
TZOFFSETTO:-0700
TZNAME:MST
DTSTART:20220101T000000
END:STANDARD
END:VTIMEZONE
BEGIN:VEVENT
DTSTART;VALUE=DATE:20230326
DTEND;VALUE=DATE:20230409
DTSTAMP:20260420T124746
CREATED:20230322T001630Z
LAST-MODIFIED:20230322T002603Z
UID:2828-1679788800-1680998399@www.friendsoftheforestsedona.org
SUMMARY:Wildflower Display
DESCRIPTION:Wildflowers of Sedona and the Verde Valley presented by Yavapai Master Gardeners and the Friends of the Forest. \nStop by the Visitor Center to view an indoor table display of live wildflowers and other native plants. Flowers are labeled to help you identify currently blooming species. \n\n\nMarch 26th – April 8th \nRed Rock Ranger Station\, 8375 SR 179Sedona\, AZ 86351.928 203-2903 \n\n			\n			\n				\n				\n				\n				\n				\n				\n				\n				\n				\n				\n			\n			\n				\n				\n				\n				\n			\n				\n				\n				\n				\n				\n				\n				\n				\n				\n				\n				Sponsored by Arizona Natural History Association\, Friends of the Forest Sedona\, and US Forest Service (Red Rock Ranger District).  \n 
URL:https://www.friendsoftheforestsedona.org/events/wildflower-display/
LOCATION:Red Rock Ranger District Visitor Center\, 8375 SR 179\, Sedona\, AZ\, 86351\, United States
CATEGORIES:USFS Event
ATTACH;FMTTYPE=image/jpeg:https://www.friendsoftheforestsedona.org/wp-content/uploads/2023/03/Spreading-Fleabane.jpg
ORGANIZER;CN="Annemari Kate Romero":MAILTO:annemari.romero@usda.gov
END:VEVENT
END:VCALENDAR